BEGIN:VCALENDAR
VERSION:2.0
PRODID:-//downtownswing.ch//Course Calendar//EN
CALSCALE:GREGORIAN
BEGIN:VEVENT
DTSTAMP:20260421T042052Z
UID:lesson-14755@downtownswing.ch
DTSTART;TZID=Europe/Zurich:20260511T210000
DTEND;TZID=Europe/Zurich:20260511T221000
DESCRIPTION:With Ingrid and Samir\n\nFokus Social Dance Floor!Mehr Routine 
 und Sicherheit im Social Dancing? In diesem Level lernst du neue Figuren u
 nd Techniken\, um auf dem Social Dance Floor Spass zu haben und Tanzpartne
 r*in mit neuen Moves und Rhythmen zu überraschen.Anforderungen: Lindy Hop
  Tanzerfahrung von ~10-12 MonatenKenntnisse der Inhalte von Level Basic 1 
 bis 5.Möchtest du in diese Serie einsteigen und hast die Levels davor nic
 ht bei uns besucht? Schreibe uns und wir finden zusammen eine Lösung 🎉
 \n\nhttps://app.downtownswing.ch/en/courses/balboa-pre-intermediate-260511
 210021
LOCATION:Club Silbando Saal 1\, Förrlibuckstrasse 62\, 8005 Zürich
STATUS:CONFIRMED
SUMMARY:Balboa Pre-Intermediate
URL;VALUE=URI:https://app.downtownswing.ch/en/courses/balboa-pre-intermedia
 te-260511210021
END:VEVENT
BEGIN:VEVENT
DTSTAMP:20260421T042052Z
UID:lesson-14756@downtownswing.ch
DTSTART;TZID=Europe/Zurich:20260518T210000
DTEND;TZID=Europe/Zurich:20260518T221000
DESCRIPTION:With Ingrid and Samir\n\nFokus Social Dance Floor!Mehr Routine 
 und Sicherheit im Social Dancing? In diesem Level lernst du neue Figuren u
 nd Techniken\, um auf dem Social Dance Floor Spass zu haben und Tanzpartne
 r*in mit neuen Moves und Rhythmen zu überraschen.Anforderungen: Lindy Hop
  Tanzerfahrung von ~10-12 MonatenKenntnisse der Inhalte von Level Basic 1 
 bis 5.Möchtest du in diese Serie einsteigen und hast die Levels davor nic
 ht bei uns besucht? Schreibe uns und wir finden zusammen eine Lösung 🎉
 \n\nhttps://app.downtownswing.ch/en/courses/balboa-pre-intermediate-260511
 210021
LOCATION:Club Silbando Saal 1\, Förrlibuckstrasse 62\, 8005 Zürich
STATUS:CONFIRMED
SUMMARY:Balboa Pre-Intermediate
URL;VALUE=URI:https://app.downtownswing.ch/en/courses/balboa-pre-intermedia
 te-260511210021
END:VEVENT
BEGIN:VEVENT
DTSTAMP:20260421T042052Z
UID:lesson-14758@downtownswing.ch
DTSTART;TZID=Europe/Zurich:20260601T210000
DTEND;TZID=Europe/Zurich:20260601T221000
DESCRIPTION:With Ingrid and Samir\n\nFokus Social Dance Floor!Mehr Routine 
 und Sicherheit im Social Dancing? In diesem Level lernst du neue Figuren u
 nd Techniken\, um auf dem Social Dance Floor Spass zu haben und Tanzpartne
 r*in mit neuen Moves und Rhythmen zu überraschen.Anforderungen: Lindy Hop
  Tanzerfahrung von ~10-12 MonatenKenntnisse der Inhalte von Level Basic 1 
 bis 5.Möchtest du in diese Serie einsteigen und hast die Levels davor nic
 ht bei uns besucht? Schreibe uns und wir finden zusammen eine Lösung 🎉
 \n\nhttps://app.downtownswing.ch/en/courses/balboa-pre-intermediate-260511
 210021
LOCATION:Club Silbando Saal 1\, Förrlibuckstrasse 62\, 8005 Zürich
STATUS:CONFIRMED
SUMMARY:Balboa Pre-Intermediate
URL;VALUE=URI:https://app.downtownswing.ch/en/courses/balboa-pre-intermedia
 te-260511210021
END:VEVENT
BEGIN:VEVENT
DTSTAMP:20260421T042052Z
UID:lesson-14759@downtownswing.ch
DTSTART;TZID=Europe/Zurich:20260608T210000
DTEND;TZID=Europe/Zurich:20260608T221000
DESCRIPTION:With Ingrid and Samir\n\nFokus Social Dance Floor!Mehr Routine 
 und Sicherheit im Social Dancing? In diesem Level lernst du neue Figuren u
 nd Techniken\, um auf dem Social Dance Floor Spass zu haben und Tanzpartne
 r*in mit neuen Moves und Rhythmen zu überraschen.Anforderungen: Lindy Hop
  Tanzerfahrung von ~10-12 MonatenKenntnisse der Inhalte von Level Basic 1 
 bis 5.Möchtest du in diese Serie einsteigen und hast die Levels davor nic
 ht bei uns besucht? Schreibe uns und wir finden zusammen eine Lösung 🎉
 \n\nhttps://app.downtownswing.ch/en/courses/balboa-pre-intermediate-260511
 210021
LOCATION:Club Silbando Saal 1\, Förrlibuckstrasse 62\, 8005 Zürich
STATUS:CONFIRMED
SUMMARY:Balboa Pre-Intermediate
URL;VALUE=URI:https://app.downtownswing.ch/en/courses/balboa-pre-intermedia
 te-260511210021
END:VEVENT
BEGIN:VEVENT
DTSTAMP:20260421T042052Z
UID:lesson-14760@downtownswing.ch
DTSTART;TZID=Europe/Zurich:20260615T210000
DTEND;TZID=Europe/Zurich:20260615T221000
DESCRIPTION:With Ingrid and Samir\n\nFokus Social Dance Floor!Mehr Routine 
 und Sicherheit im Social Dancing? In diesem Level lernst du neue Figuren u
 nd Techniken\, um auf dem Social Dance Floor Spass zu haben und Tanzpartne
 r*in mit neuen Moves und Rhythmen zu überraschen.Anforderungen: Lindy Hop
  Tanzerfahrung von ~10-12 MonatenKenntnisse der Inhalte von Level Basic 1 
 bis 5.Möchtest du in diese Serie einsteigen und hast die Levels davor nic
 ht bei uns besucht? Schreibe uns und wir finden zusammen eine Lösung 🎉
 \n\nhttps://app.downtownswing.ch/en/courses/balboa-pre-intermediate-260511
 210021
LOCATION:Club Silbando Saal 1\, Förrlibuckstrasse 62\, 8005 Zürich
STATUS:CONFIRMED
SUMMARY:Balboa Pre-Intermediate
URL;VALUE=URI:https://app.downtownswing.ch/en/courses/balboa-pre-intermedia
 te-260511210021
END:VEVENT
BEGIN:VEVENT
DTSTAMP:20260421T042052Z
UID:lesson-14761@downtownswing.ch
DTSTART;TZID=Europe/Zurich:20260622T210000
DTEND;TZID=Europe/Zurich:20260622T221000
DESCRIPTION:With Ingrid and Samir\n\nFokus Social Dance Floor!Mehr Routine 
 und Sicherheit im Social Dancing? In diesem Level lernst du neue Figuren u
 nd Techniken\, um auf dem Social Dance Floor Spass zu haben und Tanzpartne
 r*in mit neuen Moves und Rhythmen zu überraschen.Anforderungen: Lindy Hop
  Tanzerfahrung von ~10-12 MonatenKenntnisse der Inhalte von Level Basic 1 
 bis 5.Möchtest du in diese Serie einsteigen und hast die Levels davor nic
 ht bei uns besucht? Schreibe uns und wir finden zusammen eine Lösung 🎉
 \n\nhttps://app.downtownswing.ch/en/courses/balboa-pre-intermediate-260511
 210021
LOCATION:Club Silbando Saal 1\, Förrlibuckstrasse 62\, 8005 Zürich
STATUS:CONFIRMED
SUMMARY:Balboa Pre-Intermediate
URL;VALUE=URI:https://app.downtownswing.ch/en/courses/balboa-pre-intermedia
 te-260511210021
END:VEVENT
BEGIN:VEVENT
DTSTAMP:20260421T042052Z
UID:lesson-14762@downtownswing.ch
DTSTART;TZID=Europe/Zurich:20260629T210000
DTEND;TZID=Europe/Zurich:20260629T221000
DESCRIPTION:With Ingrid and Samir\n\nFokus Social Dance Floor!Mehr Routine 
 und Sicherheit im Social Dancing? In diesem Level lernst du neue Figuren u
 nd Techniken\, um auf dem Social Dance Floor Spass zu haben und Tanzpartne
 r*in mit neuen Moves und Rhythmen zu überraschen.Anforderungen: Lindy Hop
  Tanzerfahrung von ~10-12 MonatenKenntnisse der Inhalte von Level Basic 1 
 bis 5.Möchtest du in diese Serie einsteigen und hast die Levels davor nic
 ht bei uns besucht? Schreibe uns und wir finden zusammen eine Lösung 🎉
 \n\nhttps://app.downtownswing.ch/en/courses/balboa-pre-intermediate-260511
 210021
LOCATION:Club Silbando Saal 1\, Förrlibuckstrasse 62\, 8005 Zürich
STATUS:CONFIRMED
SUMMARY:Balboa Pre-Intermediate
URL;VALUE=URI:https://app.downtownswing.ch/en/courses/balboa-pre-intermedia
 te-260511210021
END:VEVENT
BEGIN:VEVENT
DTSTAMP:20260421T042052Z
UID:lesson-14763@downtownswing.ch
DTSTART;TZID=Europe/Zurich:20260706T210000
DTEND;TZID=Europe/Zurich:20260706T221000
DESCRIPTION:With Ingrid and Samir\n\nFokus Social Dance Floor!Mehr Routine 
 und Sicherheit im Social Dancing? In diesem Level lernst du neue Figuren u
 nd Techniken\, um auf dem Social Dance Floor Spass zu haben und Tanzpartne
 r*in mit neuen Moves und Rhythmen zu überraschen.Anforderungen: Lindy Hop
  Tanzerfahrung von ~10-12 MonatenKenntnisse der Inhalte von Level Basic 1 
 bis 5.Möchtest du in diese Serie einsteigen und hast die Levels davor nic
 ht bei uns besucht? Schreibe uns und wir finden zusammen eine Lösung 🎉
 \n\nhttps://app.downtownswing.ch/en/courses/balboa-pre-intermediate-260511
 210021
LOCATION:Club Silbando Saal 1\, Förrlibuckstrasse 62\, 8005 Zürich
STATUS:CONFIRMED
SUMMARY:Balboa Pre-Intermediate
URL;VALUE=URI:https://app.downtownswing.ch/en/courses/balboa-pre-intermedia
 te-260511210021
END:VEVENT
END:VCALENDAR
